BEGIN:VCALENDAR
VERSION:2.0
PRODID:-//Husky Masters Swim Team - ECPv6.15.20//NONSGML v1.0//EN
CALSCALE:GREGORIAN
METHOD:PUBLISH
X-ORIGINAL-URL:https://huskymasters.org
X-WR-CALDESC:Events for Husky Masters Swim Team
REFRESH-INTERVAL;VALUE=DURATION:PT1H
X-Robots-Tag:noindex
X-PUBLISHED-TTL:PT1H
BEGIN:VTIMEZONE
TZID:America/Los_Angeles
BEGIN:DAYLIGHT
TZOFFSETFROM:-0800
TZOFFSETTO:-0700
TZNAME:PDT
DTSTART:20240310T100000
END:DAYLIGHT
BEGIN:STANDARD
TZOFFSETFROM:-0700
TZOFFSETTO:-0800
TZNAME:PST
DTSTART:20241103T090000
END:STANDARD
BEGIN:DAYLIGHT
TZOFFSETFROM:-0800
TZOFFSETTO:-0700
TZNAME:PDT
DTSTART:20250309T100000
END:DAYLIGHT
BEGIN:STANDARD
TZOFFSETFROM:-0700
TZOFFSETTO:-0800
TZNAME:PST
DTSTART:20251102T090000
END:STANDARD
BEGIN:DAYLIGHT
TZOFFSETFROM:-0800
TZOFFSETTO:-0700
TZNAME:PDT
DTSTART:20260308T100000
END:DAYLIGHT
BEGIN:STANDARD
TZOFFSETFROM:-0700
TZOFFSETTO:-0800
TZNAME:PST
DTSTART:20261101T090000
END:STANDARD
END:VTIMEZONE
BEGIN:VEVENT
DTSTART;TZID=America/Los_Angeles:20250107T202000
DTEND;TZID=America/Los_Angeles:20250107T212000
DTSTAMP:20260423T061227
CREATED:20250105T025634Z
LAST-MODIFIED:20250105T025634Z
UID:8106-1736281200-1736284800@huskymasters.org
SUMMARY:Mid-Distance Free
DESCRIPTION:
URL:https://huskymasters.org/event/mid-distance-free-16/
CATEGORIES:Practice
END:VEVENT
BEGIN:VEVENT
DTSTART;TZID=America/Los_Angeles:20250109T202000
DTEND;TZID=America/Los_Angeles:20250109T212000
DTSTAMP:20260423T061227
CREATED:20250105T025634Z
LAST-MODIFIED:20250105T025634Z
UID:8107-1736454000-1736457600@huskymasters.org
SUMMARY:IM
DESCRIPTION:
URL:https://huskymasters.org/event/im-13/
CATEGORIES:Practice
END:VEVENT
BEGIN:VEVENT
DTSTART;TZID=America/Los_Angeles:20250114T202000
DTEND;TZID=America/Los_Angeles:20250114T212000
DTSTAMP:20260423T061227
CREATED:20250105T025634Z
LAST-MODIFIED:20250105T025634Z
UID:8108-1736886000-1736889600@huskymasters.org
SUMMARY:Sprint Free
DESCRIPTION:
URL:https://huskymasters.org/event/sprint-free-16/
CATEGORIES:Practice
END:VEVENT
BEGIN:VEVENT
DTSTART;TZID=America/Los_Angeles:20250116T202000
DTEND;TZID=America/Los_Angeles:20250116T212000
DTSTAMP:20260423T061227
CREATED:20250105T025635Z
LAST-MODIFIED:20250105T025635Z
UID:8109-1737058800-1737062400@huskymasters.org
SUMMARY:Distance Free
DESCRIPTION:
URL:https://huskymasters.org/event/distance-free-10/
CATEGORIES:Practice
END:VEVENT
BEGIN:VEVENT
DTSTART;TZID=America/Los_Angeles:20250121T202000
DTEND;TZID=America/Los_Angeles:20250121T212000
DTSTAMP:20260423T061227
CREATED:20250105T025635Z
LAST-MODIFIED:20250105T025635Z
UID:8110-1737490800-1737494400@huskymasters.org
SUMMARY:Short-Axis
DESCRIPTION:
URL:https://huskymasters.org/event/short-axis-8/
CATEGORIES:Practice
END:VEVENT
BEGIN:VEVENT
DTSTART;TZID=America/Los_Angeles:20250123T202000
DTEND;TZID=America/Los_Angeles:20250123T212000
DTSTAMP:20260423T061227
CREATED:20250105T025638Z
LAST-MODIFIED:20250105T025638Z
UID:8111-1737663600-1737667200@huskymasters.org
SUMMARY:Endurance Free
DESCRIPTION:
URL:https://huskymasters.org/event/endurance-free-8/
CATEGORIES:Practice
END:VEVENT
BEGIN:VEVENT
DTSTART;TZID=America/Los_Angeles:20250128T202000
DTEND;TZID=America/Los_Angeles:20250128T212000
DTSTAMP:20260423T061227
CREATED:20250105T025638Z
LAST-MODIFIED:20250105T025638Z
UID:8112-1738095600-1738099200@huskymasters.org
SUMMARY:Long-Axis
DESCRIPTION:
URL:https://huskymasters.org/event/long-axis-5/
CATEGORIES:Practice
END:VEVENT
BEGIN:VEVENT
DTSTART;TZID=America/Los_Angeles:20250130T202000
DTEND;TZID=America/Los_Angeles:20250130T212000
DTSTAMP:20260423T061227
CREATED:20250105T025638Z
LAST-MODIFIED:20250105T025638Z
UID:8113-1738268400-1738272000@huskymasters.org
SUMMARY:Sprint Free
DESCRIPTION:
URL:https://huskymasters.org/event/sprint-free-17/
CATEGORIES:Practice
END:VEVENT
END:VCALENDAR