BEGIN:VCALENDAR
VERSION:2.0
PRODID:-//Husky Masters Swim Team - ECPv6.15.20//NONSGML v1.0//EN
CALSCALE:GREGORIAN
METHOD:PUBLISH
X-WR-CALNAME:Husky Masters Swim Team
X-ORIGINAL-URL:https://huskymasters.org
X-WR-CALDESC:Events for Husky Masters Swim Team
REFRESH-INTERVAL;VALUE=DURATION:PT1H
X-Robots-Tag:noindex
X-PUBLISHED-TTL:PT1H
BEGIN:VTIMEZONE
TZID:America/Los_Angeles
BEGIN:DAYLIGHT
TZOFFSETFROM:-0800
TZOFFSETTO:-0700
TZNAME:PDT
DTSTART:20230312T100000
END:DAYLIGHT
BEGIN:STANDARD
TZOFFSETFROM:-0700
TZOFFSETTO:-0800
TZNAME:PST
DTSTART:20231105T090000
END:STANDARD
BEGIN:DAYLIGHT
TZOFFSETFROM:-0800
TZOFFSETTO:-0700
TZNAME:PDT
DTSTART:20240310T100000
END:DAYLIGHT
BEGIN:STANDARD
TZOFFSETFROM:-0700
TZOFFSETTO:-0800
TZNAME:PST
DTSTART:20241103T090000
END:STANDARD
BEGIN:DAYLIGHT
TZOFFSETFROM:-0800
TZOFFSETTO:-0700
TZNAME:PDT
DTSTART:20250309T100000
END:DAYLIGHT
BEGIN:STANDARD
TZOFFSETFROM:-0700
TZOFFSETTO:-0800
TZNAME:PST
DTSTART:20251102T090000
END:STANDARD
END:VTIMEZONE
BEGIN:VEVENT
DTSTART;TZID=America/Los_Angeles:20241203T202000
DTEND;TZID=America/Los_Angeles:20241203T212000
DTSTAMP:20260423T043902
CREATED:20241130T030437Z
LAST-MODIFIED:20241130T031000Z
UID:7918-1733257200-1733260800@huskymasters.org
SUMMARY:Mid Distance Free
DESCRIPTION:
URL:https://huskymasters.org/event/mid-distance-free-14/
CATEGORIES:Practice
END:VEVENT
BEGIN:VEVENT
DTSTART;TZID=America/Los_Angeles:20241205T202000
DTEND;TZID=America/Los_Angeles:20241205T212000
DTSTAMP:20260423T043902
CREATED:20241130T030437Z
LAST-MODIFIED:20241130T031123Z
UID:7919-1733430000-1733433600@huskymasters.org
SUMMARY:Fly
DESCRIPTION:
URL:https://huskymasters.org/event/fly-4/
CATEGORIES:Practice
END:VEVENT
BEGIN:VEVENT
DTSTART;TZID=America/Los_Angeles:20241210T202000
DTEND;TZID=America/Los_Angeles:20241210T212000
DTSTAMP:20260423T043902
CREATED:20241130T030437Z
LAST-MODIFIED:20241210T185126Z
UID:7920-1733862000-1733865600@huskymasters.org
SUMMARY:Sprint Free
DESCRIPTION:
URL:https://huskymasters.org/event/im-11/
CATEGORIES:Practice
END:VEVENT
BEGIN:VEVENT
DTSTART;TZID=America/Los_Angeles:20241212T202000
DTEND;TZID=America/Los_Angeles:20241212T212000
DTSTAMP:20260423T043902
CREATED:20241130T030437Z
LAST-MODIFIED:20241210T185225Z
UID:7921-1734034800-1734038400@huskymasters.org
SUMMARY:IM
DESCRIPTION:
URL:https://huskymasters.org/event/endurance-free-challenge-set/
CATEGORIES:Practice
END:VEVENT
BEGIN:VEVENT
DTSTART;TZID=America/Los_Angeles:20241217T202000
DTEND;TZID=America/Los_Angeles:20241217T212000
DTSTAMP:20260423T043902
CREATED:20241130T030437Z
LAST-MODIFIED:20241210T185200Z
UID:7922-1734466800-1734470400@huskymasters.org
SUMMARY:Endurance Free (Challenge Set)
DESCRIPTION:
URL:https://huskymasters.org/event/sprint-free-13/
CATEGORIES:Practice
END:VEVENT
BEGIN:VEVENT
DTSTART;TZID=America/Los_Angeles:20241219T202000
DTEND;TZID=America/Los_Angeles:20241219T212000
DTSTAMP:20260423T043902
CREATED:20241130T030444Z
LAST-MODIFIED:20241130T031347Z
UID:7923-1734639600-1734643200@huskymasters.org
SUMMARY:Breaststroke
DESCRIPTION:
URL:https://huskymasters.org/event/breaststroke-9/
CATEGORIES:Practice
END:VEVENT
BEGIN:VEVENT
DTSTART;TZID=America/Los_Angeles:20241226T193000
DTEND;TZID=America/Los_Angeles:20241226T203000
DTSTAMP:20260423T043902
CREATED:20241130T030445Z
LAST-MODIFIED:20241223T035555Z
UID:7924-1735241400-1735245000@huskymasters.org
SUMMARY:Holiday Special
DESCRIPTION:
URL:https://huskymasters.org/event/backstroke-5/
CATEGORIES:Practice
END:VEVENT
END:VCALENDAR