BEGIN:VCALENDAR
VERSION:2.0
PRODID:-//Husky Masters Swim Team - ECPv6.15.20//NONSGML v1.0//EN
CALSCALE:GREGORIAN
METHOD:PUBLISH
X-WR-CALNAME:Husky Masters Swim Team
X-ORIGINAL-URL:https://huskymasters.org
X-WR-CALDESC:Events for Husky Masters Swim Team
REFRESH-INTERVAL;VALUE=DURATION:PT1H
X-Robots-Tag:noindex
X-PUBLISHED-TTL:PT1H
BEGIN:VTIMEZONE
TZID:America/Los_Angeles
BEGIN:DAYLIGHT
TZOFFSETFROM:-0800
TZOFFSETTO:-0700
TZNAME:PDT
DTSTART:20230312T100000
END:DAYLIGHT
BEGIN:STANDARD
TZOFFSETFROM:-0700
TZOFFSETTO:-0800
TZNAME:PST
DTSTART:20231105T090000
END:STANDARD
BEGIN:DAYLIGHT
TZOFFSETFROM:-0800
TZOFFSETTO:-0700
TZNAME:PDT
DTSTART:20240310T100000
END:DAYLIGHT
BEGIN:STANDARD
TZOFFSETFROM:-0700
TZOFFSETTO:-0800
TZNAME:PST
DTSTART:20241103T090000
END:STANDARD
BEGIN:DAYLIGHT
TZOFFSETFROM:-0800
TZOFFSETTO:-0700
TZNAME:PDT
DTSTART:20250309T100000
END:DAYLIGHT
BEGIN:STANDARD
TZOFFSETFROM:-0700
TZOFFSETTO:-0800
TZNAME:PST
DTSTART:20251102T090000
END:STANDARD
END:VTIMEZONE
BEGIN:VEVENT
DTSTART;TZID=America/Los_Angeles:20241107T202000
DTEND;TZID=America/Los_Angeles:20241107T212000
DTSTAMP:20260423T030726
CREATED:20241102T221145Z
LAST-MODIFIED:20241102T221726Z
UID:7738-1731010800-1731014400@huskymasters.org
SUMMARY:Endurance Free
DESCRIPTION:
URL:https://huskymasters.org/event/endurance-free-6/
LOCATION:View Ridge Swim and Tennis Club\, 5815 NE 77th St\, Seattle\, 98115\, United States
CATEGORIES:Practice
END:VEVENT
BEGIN:VEVENT
DTSTART;TZID=America/Los_Angeles:20241112T202000
DTEND;TZID=America/Los_Angeles:20241112T212000
DTSTAMP:20260423T030726
CREATED:20241102T221145Z
LAST-MODIFIED:20241107T215356Z
UID:7739-1731442800-1731446400@huskymasters.org
SUMMARY:Breaststroke
DESCRIPTION:
URL:https://huskymasters.org/event/breaststroke-8/
LOCATION:View Ridge Swim and Tennis Club\, 5815 NE 77th St\, Seattle\, 98115\, United States
CATEGORIES:Practice
END:VEVENT
BEGIN:VEVENT
DTSTART;TZID=America/Los_Angeles:20241114T202000
DTEND;TZID=America/Los_Angeles:20241114T212000
DTSTAMP:20260423T030726
CREATED:20241102T221145Z
LAST-MODIFIED:20241107T215416Z
UID:7740-1731615600-1731619200@huskymasters.org
SUMMARY:IM
DESCRIPTION:
URL:https://huskymasters.org/event/im-10/
LOCATION:View Ridge Swim and Tennis Club\, 5815 NE 77th St\, Seattle\, 98115\, United States
CATEGORIES:Practice
END:VEVENT
BEGIN:VEVENT
DTSTART;TZID=America/Los_Angeles:20241119T202000
DTEND;TZID=America/Los_Angeles:20241119T212000
DTSTAMP:20260423T030726
CREATED:20241102T221145Z
LAST-MODIFIED:20241120T022438Z
UID:7741-1732047600-1732051200@huskymasters.org
SUMMARY:Mid-distance Free
DESCRIPTION:
URL:https://huskymasters.org/event/mid-distance-free-13/
LOCATION:View Ridge Swim and Tennis Club\, 5815 NE 77th St\, Seattle\, 98115\, United States
CATEGORIES:Practice
END:VEVENT
BEGIN:VEVENT
DTSTART;TZID=America/Los_Angeles:20241121T202000
DTEND;TZID=America/Los_Angeles:20241121T212000
DTSTAMP:20260423T030726
CREATED:20241102T221145Z
LAST-MODIFIED:20241107T215456Z
UID:7742-1732220400-1732224000@huskymasters.org
SUMMARY:Fly
DESCRIPTION:
URL:https://huskymasters.org/event/fly-3/
LOCATION:View Ridge Swim and Tennis Club\, 5815 NE 77th St\, Seattle\, 98115\, United States
CATEGORIES:Practice
END:VEVENT
BEGIN:VEVENT
DTSTART;TZID=America/Los_Angeles:20241126T202000
DTEND;TZID=America/Los_Angeles:20241126T212000
DTSTAMP:20260423T030726
CREATED:20241102T221148Z
LAST-MODIFIED:20241107T215518Z
UID:7743-1732652400-1732656000@huskymasters.org
SUMMARY:Turkey Day Prep
DESCRIPTION:
URL:https://huskymasters.org/event/turkey-day-prep/
LOCATION:View Ridge Swim and Tennis Club\, 5815 NE 77th St\, Seattle\, 98115\, United States
CATEGORIES:Practice
END:VEVENT
END:VCALENDAR