BEGIN:VCALENDAR
VERSION:2.0
PRODID:-//Husky Masters Swim Team - ECPv6.15.20//NONSGML v1.0//EN
CALSCALE:GREGORIAN
METHOD:PUBLISH
X-WR-CALNAME:Husky Masters Swim Team
X-ORIGINAL-URL:https://huskymasters.org
X-WR-CALDESC:Events for Husky Masters Swim Team
REFRESH-INTERVAL;VALUE=DURATION:PT1H
X-Robots-Tag:noindex
X-PUBLISHED-TTL:PT1H
BEGIN:VTIMEZONE
TZID:America/Los_Angeles
BEGIN:DAYLIGHT
TZOFFSETFROM:-0800
TZOFFSETTO:-0700
TZNAME:PDT
DTSTART:20230312T100000
END:DAYLIGHT
BEGIN:STANDARD
TZOFFSETFROM:-0700
TZOFFSETTO:-0800
TZNAME:PST
DTSTART:20231105T090000
END:STANDARD
BEGIN:DAYLIGHT
TZOFFSETFROM:-0800
TZOFFSETTO:-0700
TZNAME:PDT
DTSTART:20240310T100000
END:DAYLIGHT
BEGIN:STANDARD
TZOFFSETFROM:-0700
TZOFFSETTO:-0800
TZNAME:PST
DTSTART:20241103T090000
END:STANDARD
BEGIN:DAYLIGHT
TZOFFSETFROM:-0800
TZOFFSETTO:-0700
TZNAME:PDT
DTSTART:20250309T100000
END:DAYLIGHT
BEGIN:STANDARD
TZOFFSETFROM:-0700
TZOFFSETTO:-0800
TZNAME:PST
DTSTART:20251102T090000
END:STANDARD
END:VTIMEZONE
BEGIN:VEVENT
DTSTART;TZID=America/Los_Angeles:20240304T202000
DTEND;TZID=America/Los_Angeles:20240304T212000
DTSTAMP:20260419T114106
CREATED:20240304T014747Z
LAST-MODIFIED:20240304T014900Z
UID:6615-1709583600-1709587200@huskymasters.org
SUMMARY:Short Axis
DESCRIPTION:
URL:https://huskymasters.org/event/short-axis-4/
LOCATION:View Ridge Swim and Tennis Club\, 5815 NE 77th St\, Seattle\, 98115\, United States
CATEGORIES:Practice
END:VEVENT
BEGIN:VEVENT
DTSTART;TZID=America/Los_Angeles:20240305T202000
DTEND;TZID=America/Los_Angeles:20240305T212000
DTSTAMP:20260419T114106
CREATED:20240304T015257Z
LAST-MODIFIED:20240304T015257Z
UID:6616-1709670000-1709673600@huskymasters.org
SUMMARY:Mid Distance Free
DESCRIPTION:
URL:https://huskymasters.org/event/mid-distance-free-8/
LOCATION:View Ridge Swim and Tennis Club\, 5815 NE 77th St\, Seattle\, 98115\, United States
CATEGORIES:Practice
END:VEVENT
BEGIN:VEVENT
DTSTART;TZID=America/Los_Angeles:20240307T202000
DTEND;TZID=America/Los_Angeles:20240307T212000
DTSTAMP:20260419T114106
CREATED:20240304T015547Z
LAST-MODIFIED:20240304T015547Z
UID:6617-1709842800-1709846400@huskymasters.org
SUMMARY:Sprint Free
DESCRIPTION:
URL:https://huskymasters.org/event/sprint-free-8/
LOCATION:View Ridge Swim and Tennis Club\, 5815 NE 77th St\, Seattle\, 98115\, United States
CATEGORIES:Practice
END:VEVENT
BEGIN:VEVENT
DTSTART;TZID=America/Los_Angeles:20240311T202000
DTEND;TZID=America/Los_Angeles:20240311T212000
DTSTAMP:20260419T114106
CREATED:20240304T015838Z
LAST-MODIFIED:20240304T015838Z
UID:6618-1710188400-1710192000@huskymasters.org
SUMMARY:Breaststroke
DESCRIPTION:
URL:https://huskymasters.org/event/breaststroke-5/
LOCATION:View Ridge Swim and Tennis Club\, 5815 NE 77th St\, Seattle\, 98115\, United States
CATEGORIES:Practice
END:VEVENT
BEGIN:VEVENT
DTSTART;TZID=America/Los_Angeles:20240312T202000
DTEND;TZID=America/Los_Angeles:20240312T212000
DTSTAMP:20260419T114106
CREATED:20240304T015843Z
LAST-MODIFIED:20240312T025933Z
UID:6619-1710274800-1710278400@huskymasters.org
SUMMARY:IM
DESCRIPTION:
URL:https://huskymasters.org/event/im-7/
LOCATION:View Ridge Swim and Tennis Club\, 5815 NE 77th St\, Seattle\, 98115\, United States
CATEGORIES:Practice
END:VEVENT
BEGIN:VEVENT
DTSTART;TZID=America/Los_Angeles:20240314T202000
DTEND;TZID=America/Los_Angeles:20240314T212000
DTSTAMP:20260419T114106
CREATED:20240304T015852Z
LAST-MODIFIED:20240312T030035Z
UID:6620-1710447600-1710451200@huskymasters.org
SUMMARY:Distance Free
DESCRIPTION:
URL:https://huskymasters.org/event/distance-free-5/
LOCATION:View Ridge Swim and Tennis Club\, 5815 NE 77th St\, Seattle\, 98115\, United States
CATEGORIES:Practice
END:VEVENT
BEGIN:VEVENT
DTSTART;TZID=America/Los_Angeles:20240318T202000
DTEND;TZID=America/Los_Angeles:20240318T212000
DTSTAMP:20260419T114106
CREATED:20240304T020112Z
LAST-MODIFIED:20240304T020112Z
UID:6621-1710793200-1710796800@huskymasters.org
SUMMARY:Sprint Free
DESCRIPTION:
URL:https://huskymasters.org/event/sprint-free-9/
LOCATION:View Ridge Swim and Tennis Club\, 5815 NE 77th St\, Seattle\, 98115\, United States
CATEGORIES:Practice
END:VEVENT
BEGIN:VEVENT
DTSTART;TZID=America/Los_Angeles:20240319T202000
DTEND;TZID=America/Los_Angeles:20240319T212000
DTSTAMP:20260419T114106
CREATED:20240304T020117Z
LAST-MODIFIED:20240304T020117Z
UID:6622-1710879600-1710883200@huskymasters.org
SUMMARY:Mid Distance Free
DESCRIPTION:
URL:https://huskymasters.org/event/mid-distance-free-9/
LOCATION:View Ridge Swim and Tennis Club\, 5815 NE 77th St\, Seattle\, 98115\, United States
CATEGORIES:Practice
END:VEVENT
BEGIN:VEVENT
DTSTART;TZID=America/Los_Angeles:20240321T202000
DTEND;TZID=America/Los_Angeles:20240321T212000
DTSTAMP:20260419T114106
CREATED:20240304T020121Z
LAST-MODIFIED:20240304T020121Z
UID:6623-1711052400-1711056000@huskymasters.org
SUMMARY:Long Axis
DESCRIPTION:
URL:https://huskymasters.org/event/long-axis-3/
LOCATION:View Ridge Swim and Tennis Club\, 5815 NE 77th St\, Seattle\, 98115\, United States
CATEGORIES:Practice
END:VEVENT
BEGIN:VEVENT
DTSTART;TZID=America/Los_Angeles:20240325T202000
DTEND;TZID=America/Los_Angeles:20240325T212000
DTSTAMP:20260419T114106
CREATED:20240304T021039Z
LAST-MODIFIED:20240304T021039Z
UID:6624-1711398000-1711401600@huskymasters.org
SUMMARY:Backstroke
DESCRIPTION:
URL:https://huskymasters.org/event/backstroke-3/
LOCATION:View Ridge Swim and Tennis Club\, 5815 NE 77th St\, Seattle\, 98115\, United States
CATEGORIES:Practice
END:VEVENT
BEGIN:VEVENT
DTSTART;TZID=America/Los_Angeles:20240326T202000
DTEND;TZID=America/Los_Angeles:20240326T212000
DTSTAMP:20260419T114106
CREATED:20240304T021040Z
LAST-MODIFIED:20240304T021040Z
UID:6625-1711484400-1711488000@huskymasters.org
SUMMARY:Fly
DESCRIPTION:
URL:https://huskymasters.org/event/fly/
LOCATION:View Ridge Swim and Tennis Club\, 5815 NE 77th St\, Seattle\, 98115\, United States
CATEGORIES:Practice
END:VEVENT
BEGIN:VEVENT
DTSTART;TZID=America/Los_Angeles:20240328T202000
DTEND;TZID=America/Los_Angeles:20240328T212000
DTSTAMP:20260419T114106
CREATED:20240304T021042Z
LAST-MODIFIED:20240304T021042Z
UID:6626-1711657200-1711660800@huskymasters.org
SUMMARY:Distance Free
DESCRIPTION:
URL:https://huskymasters.org/event/distance-free-6/
LOCATION:View Ridge Swim and Tennis Club\, 5815 NE 77th St\, Seattle\, 98115\, United States
CATEGORIES:Practice
END:VEVENT
END:VCALENDAR