BEGIN:VCALENDAR
VERSION:2.0
PRODID:-//Husky Masters Swim Team - ECPv6.15.20//NONSGML v1.0//EN
CALSCALE:GREGORIAN
METHOD:PUBLISH
X-WR-CALNAME:Husky Masters Swim Team
X-ORIGINAL-URL:https://huskymasters.org
X-WR-CALDESC:Events for Husky Masters Swim Team
REFRESH-INTERVAL;VALUE=DURATION:PT1H
X-Robots-Tag:noindex
X-PUBLISHED-TTL:PT1H
BEGIN:VTIMEZONE
TZID:America/Los_Angeles
BEGIN:DAYLIGHT
TZOFFSETFROM:-0800
TZOFFSETTO:-0700
TZNAME:PDT
DTSTART:20220313T100000
END:DAYLIGHT
BEGIN:STANDARD
TZOFFSETFROM:-0700
TZOFFSETTO:-0800
TZNAME:PST
DTSTART:20221106T090000
END:STANDARD
BEGIN:DAYLIGHT
TZOFFSETFROM:-0800
TZOFFSETTO:-0700
TZNAME:PDT
DTSTART:20230312T100000
END:DAYLIGHT
BEGIN:STANDARD
TZOFFSETFROM:-0700
TZOFFSETTO:-0800
TZNAME:PST
DTSTART:20231105T090000
END:STANDARD
BEGIN:DAYLIGHT
TZOFFSETFROM:-0800
TZOFFSETTO:-0700
TZNAME:PDT
DTSTART:20240310T100000
END:DAYLIGHT
BEGIN:STANDARD
TZOFFSETFROM:-0700
TZOFFSETTO:-0800
TZNAME:PST
DTSTART:20241103T090000
END:STANDARD
END:VTIMEZONE
BEGIN:VEVENT
DTSTART;TZID=America/Los_Angeles:20231205T202000
DTEND;TZID=America/Los_Angeles:20231205T212000
DTSTAMP:20260419T154526
CREATED:20231202T060035Z
LAST-MODIFIED:20231202T060035Z
UID:5780-1701807600-1701811200@huskymasters.org
SUMMARY:IM
DESCRIPTION:
URL:https://huskymasters.org/event/im-2/
LOCATION:View Ridge Swim and Tennis Club\, 5815 NE 77th St\, Seattle\, 98115\, United States
END:VEVENT
BEGIN:VEVENT
DTSTART;TZID=America/Los_Angeles:20231207T202000
DTEND;TZID=America/Los_Angeles:20231207T212000
DTSTAMP:20260419T154526
CREATED:20231202T060226Z
LAST-MODIFIED:20231202T060226Z
UID:5783-1701980400-1701984000@huskymasters.org
SUMMARY:Mid Distance Free
DESCRIPTION:
URL:https://huskymasters.org/event/mid-distance-free-2/
LOCATION:View Ridge Swim and Tennis Club\, 5815 NE 77th St\, Seattle\, 98115\, United States
END:VEVENT
BEGIN:VEVENT
DTSTART;TZID=America/Los_Angeles:20231212T202000
DTEND;TZID=America/Los_Angeles:20231212T212000
DTSTAMP:20260419T154526
CREATED:20231202T060516Z
LAST-MODIFIED:20231202T060516Z
UID:5786-1702412400-1702416000@huskymasters.org
SUMMARY:Sprint Free
DESCRIPTION:
URL:https://huskymasters.org/event/sprint-free-3/
LOCATION:View Ridge Swim and Tennis Club\, 5815 NE 77th St\, Seattle\, 98115\, United States
END:VEVENT
BEGIN:VEVENT
DTSTART;TZID=America/Los_Angeles:20231214T202000
DTEND;TZID=America/Los_Angeles:20231214T212000
DTSTAMP:20260419T154526
CREATED:20231202T060815Z
LAST-MODIFIED:20231219T205504Z
UID:5789-1702585200-1702588800@huskymasters.org
SUMMARY:Breaststroke
DESCRIPTION:
URL:https://huskymasters.org/event/breaststroke-2/
LOCATION:View Ridge Swim and Tennis Club\, 5815 NE 77th St\, Seattle\, 98115\, United States
END:VEVENT
BEGIN:VEVENT
DTSTART;TZID=America/Los_Angeles:20231219T202000
DTEND;TZID=America/Los_Angeles:20231219T212000
DTSTAMP:20260419T154526
CREATED:20231202T061157Z
LAST-MODIFIED:20231202T061157Z
UID:5792-1703017200-1703020800@huskymasters.org
SUMMARY:Distance Free
DESCRIPTION:
URL:https://huskymasters.org/event/distance-free-2/
LOCATION:View Ridge Swim and Tennis Club\, 5815 NE 77th St\, Seattle\, 98115\, United States
END:VEVENT
BEGIN:VEVENT
DTSTART;TZID=America/Los_Angeles:20231221T202000
DTEND;TZID=America/Los_Angeles:20231221T212000
DTSTAMP:20260419T154526
CREATED:20231202T061354Z
LAST-MODIFIED:20231202T061354Z
UID:5795-1703190000-1703193600@huskymasters.org
SUMMARY:Last Practice of 2023
DESCRIPTION:
URL:https://huskymasters.org/event/last-practice-of-2023/
LOCATION:View Ridge Swim and Tennis Club\, 5815 NE 77th St\, Seattle\, 98115\, United States
END:VEVENT
END:VCALENDAR