BEGIN:VCALENDAR
VERSION:2.0
PRODID:-//Husky Masters Swim Team - ECPv6.15.20//NONSGML v1.0//EN
CALSCALE:GREGORIAN
METHOD:PUBLISH
X-WR-CALNAME:Husky Masters Swim Team
X-ORIGINAL-URL:https://huskymasters.org
X-WR-CALDESC:Events for Husky Masters Swim Team
REFRESH-INTERVAL;VALUE=DURATION:PT1H
X-Robots-Tag:noindex
X-PUBLISHED-TTL:PT1H
BEGIN:VTIMEZONE
TZID:America/Los_Angeles
BEGIN:DAYLIGHT
TZOFFSETFROM:-0800
TZOFFSETTO:-0700
TZNAME:PDT
DTSTART:20220313T100000
END:DAYLIGHT
BEGIN:STANDARD
TZOFFSETFROM:-0700
TZOFFSETTO:-0800
TZNAME:PST
DTSTART:20221106T090000
END:STANDARD
BEGIN:DAYLIGHT
TZOFFSETFROM:-0800
TZOFFSETTO:-0700
TZNAME:PDT
DTSTART:20230312T100000
END:DAYLIGHT
BEGIN:STANDARD
TZOFFSETFROM:-0700
TZOFFSETTO:-0800
TZNAME:PST
DTSTART:20231105T090000
END:STANDARD
BEGIN:DAYLIGHT
TZOFFSETFROM:-0800
TZOFFSETTO:-0700
TZNAME:PDT
DTSTART:20240310T100000
END:DAYLIGHT
BEGIN:STANDARD
TZOFFSETFROM:-0700
TZOFFSETTO:-0800
TZNAME:PST
DTSTART:20241103T090000
END:STANDARD
END:VTIMEZONE
BEGIN:VEVENT
DTSTART;TZID=America/Los_Angeles:20231003T202000
DTEND;TZID=America/Los_Angeles:20231003T212000
DTSTAMP:20260419T182713
CREATED:20230927T014240Z
LAST-MODIFIED:20231004T053220Z
UID:5264-1696364400-1696368000@huskymasters.org
SUMMARY:First 2023/2024 Practice
DESCRIPTION:
URL:https://huskymasters.org/event/first-2023-2024-practice/
LOCATION:View Ridge Swim and Tennis Club\, 5815 NE 77th St\, Seattle\, 98115\, United States
END:VEVENT
BEGIN:VEVENT
DTSTART;TZID=America/Los_Angeles:20231005T202000
DTEND;TZID=America/Los_Angeles:20231005T212000
DTSTAMP:20260419T182713
CREATED:20230927T020051Z
LAST-MODIFIED:20231001T003708Z
UID:5267-1696537200-1696540800@huskymasters.org
SUMMARY:Freestyle Practice
DESCRIPTION:
URL:https://huskymasters.org/event/freestyle-practice/
LOCATION:View Ridge Swim and Tennis Club\, 5815 NE 77th St\, Seattle\, 98115\, United States
END:VEVENT
BEGIN:VEVENT
DTSTART;TZID=America/Los_Angeles:20231010T202000
DTEND;TZID=America/Los_Angeles:20231010T212000
DTSTAMP:20260419T182713
CREATED:20231001T003943Z
LAST-MODIFIED:20231001T003943Z
UID:5277-1696969200-1696972800@huskymasters.org
SUMMARY:Mid Distance - Long Axis
DESCRIPTION:
URL:https://huskymasters.org/event/mid-distance-long-axis/
LOCATION:View Ridge Swim and Tennis Club\, 5815 NE 77th St\, Seattle\, 98115\, United States
END:VEVENT
BEGIN:VEVENT
DTSTART;TZID=America/Los_Angeles:20231012T202000
DTEND;TZID=America/Los_Angeles:20231012T212000
DTSTAMP:20260419T182713
CREATED:20231004T015323Z
LAST-MODIFIED:20231004T015558Z
UID:5307-1697142000-1697145600@huskymasters.org
SUMMARY:Short Axis
DESCRIPTION:
URL:https://huskymasters.org/event/short-axis/
LOCATION:View Ridge Swim and Tennis Club\, 5815 NE 77th St\, Seattle\, 98115\, United States
END:VEVENT
BEGIN:VEVENT
DTSTART;TZID=America/Los_Angeles:20231017T202000
DTEND;TZID=America/Los_Angeles:20231017T212000
DTSTAMP:20260419T182713
CREATED:20231004T015517Z
LAST-MODIFIED:20231004T015517Z
UID:5312-1697574000-1697577600@huskymasters.org
SUMMARY:IM
DESCRIPTION:
URL:https://huskymasters.org/event/im/
LOCATION:View Ridge Swim and Tennis Club\, 5815 NE 77th St\, Seattle\, 98115\, United States
END:VEVENT
BEGIN:VEVENT
DTSTART;TZID=America/Los_Angeles:20231019T202000
DTEND;TZID=America/Los_Angeles:20231019T212000
DTSTAMP:20260419T182713
CREATED:20231004T015749Z
LAST-MODIFIED:20231004T015749Z
UID:5315-1697746800-1697750400@huskymasters.org
SUMMARY:Endurance Free
DESCRIPTION:
URL:https://huskymasters.org/event/endurance-free/
LOCATION:View Ridge Swim and Tennis Club\, 5815 NE 77th St\, Seattle\, 98115\, United States
END:VEVENT
BEGIN:VEVENT
DTSTART;TZID=America/Los_Angeles:20231024T202000
DTEND;TZID=America/Los_Angeles:20231024T212000
DTSTAMP:20260419T182713
CREATED:20231004T020030Z
LAST-MODIFIED:20231004T020030Z
UID:5318-1698178800-1698182400@huskymasters.org
SUMMARY:Sprint Free
DESCRIPTION:
URL:https://huskymasters.org/event/sprint-free/
LOCATION:View Ridge Swim and Tennis Club\, 5815 NE 77th St\, Seattle\, 98115\, United States
END:VEVENT
BEGIN:VEVENT
DTSTART;TZID=America/Los_Angeles:20231026T202000
DTEND;TZID=America/Los_Angeles:20231026T212000
DTSTAMP:20260419T182713
CREATED:20231004T020320Z
LAST-MODIFIED:20231004T020320Z
UID:5322-1698351600-1698355200@huskymasters.org
SUMMARY:Mid Distance Stroke
DESCRIPTION:
URL:https://huskymasters.org/event/mid-distance-stroke/
LOCATION:View Ridge Swim and Tennis Club\, 5815 NE 77th St\, Seattle\, 98115\, United States
END:VEVENT
BEGIN:VEVENT
DTSTART;TZID=America/Los_Angeles:20231027T190000
DTEND;TZID=America/Los_Angeles:20231027T210000
DTSTAMP:20260419T182713
CREATED:20231019T215215Z
LAST-MODIFIED:20231019T215215Z
UID:5447-1698433200-1698440400@huskymasters.org
SUMMARY:Early Season Happy Hour
DESCRIPTION:Join us for an early season happy hour!
URL:https://huskymasters.org/event/early-season-happy-hour/
LOCATION:Ravenna Brewing\, 5408 26th Ave NE\, Seattle\, WA\, 98105\, United States
END:VEVENT
BEGIN:VEVENT
DTSTART;TZID=America/Los_Angeles:20231031T202000
DTEND;TZID=America/Los_Angeles:20231031T212000
DTSTAMP:20260419T182713
CREATED:20231004T020538Z
LAST-MODIFIED:20231004T020538Z
UID:5325-1698783600-1698787200@huskymasters.org
SUMMARY:Halloween Spooktacular (Coach's Choice)
DESCRIPTION:
URL:https://huskymasters.org/event/halloween-spooktacular-coachs-choice/
LOCATION:View Ridge Swim and Tennis Club\, 5815 NE 77th St\, Seattle\, 98115\, United States
END:VEVENT
END:VCALENDAR