BEGIN:VCALENDAR
VERSION:2.0
PRODID:-//Husky Masters Swim Team - ECPv6.15.20//NONSGML v1.0//EN
CALSCALE:GREGORIAN
METHOD:PUBLISH
X-WR-CALNAME:Husky Masters Swim Team
X-ORIGINAL-URL:https://huskymasters.org
X-WR-CALDESC:Events for Husky Masters Swim Team
REFRESH-INTERVAL;VALUE=DURATION:PT1H
X-Robots-Tag:noindex
X-PUBLISHED-TTL:PT1H
BEGIN:VTIMEZONE
TZID:America/Los_Angeles
BEGIN:DAYLIGHT
TZOFFSETFROM:-0800
TZOFFSETTO:-0700
TZNAME:PDT
DTSTART:20210314T100000
END:DAYLIGHT
BEGIN:STANDARD
TZOFFSETFROM:-0700
TZOFFSETTO:-0800
TZNAME:PST
DTSTART:20211107T090000
END:STANDARD
BEGIN:DAYLIGHT
TZOFFSETFROM:-0800
TZOFFSETTO:-0700
TZNAME:PDT
DTSTART:20220313T100000
END:DAYLIGHT
BEGIN:STANDARD
TZOFFSETFROM:-0700
TZOFFSETTO:-0800
TZNAME:PST
DTSTART:20221106T090000
END:STANDARD
BEGIN:DAYLIGHT
TZOFFSETFROM:-0800
TZOFFSETTO:-0700
TZNAME:PDT
DTSTART:20230312T100000
END:DAYLIGHT
BEGIN:STANDARD
TZOFFSETFROM:-0700
TZOFFSETTO:-0800
TZNAME:PST
DTSTART:20231105T090000
END:STANDARD
BEGIN:DAYLIGHT
TZOFFSETFROM:-0800
TZOFFSETTO:-0700
TZNAME:PDT
DTSTART:20240310T100000
END:DAYLIGHT
BEGIN:STANDARD
TZOFFSETFROM:-0700
TZOFFSETTO:-0800
TZNAME:PST
DTSTART:20241103T090000
END:STANDARD
END:VTIMEZONE
BEGIN:VEVENT
DTSTART;TZID=America/Los_Angeles:20230314T202000
DTEND;TZID=America/Los_Angeles:20230314T212000
DTSTAMP:20260419T231033
CREATED:20230305T232300Z
LAST-MODIFIED:20230305T233230Z
UID:4808-1678825200-1678828800@huskymasters.org
SUMMARY:Sprint Free
DESCRIPTION:
URL:https://huskymasters.org/event/20230314/
LOCATION:View Ridge Swim and Tennis Club\, 5815 NE 77th St\, Seattle\, 98115\, United States
END:VEVENT
BEGIN:VEVENT
DTSTART;TZID=America/Los_Angeles:20230313T202000
DTEND;TZID=America/Los_Angeles:20230313T212000
DTSTAMP:20260419T231033
CREATED:20230305T232135Z
LAST-MODIFIED:20230305T232135Z
UID:4805-1678738800-1678742400@huskymasters.org
SUMMARY:Distance Free
DESCRIPTION:
URL:https://huskymasters.org/event/20230313/
LOCATION:View Ridge Swim and Tennis Club\, 5815 NE 77th St\, Seattle\, 98115\, United States
END:VEVENT
BEGIN:VEVENT
DTSTART;TZID=America/Los_Angeles:20230309T202000
DTEND;TZID=America/Los_Angeles:20230309T212000
DTSTAMP:20260419T231033
CREATED:20230127T214844Z
LAST-MODIFIED:20230308T233621Z
UID:4526-1678393200-1678396800@huskymasters.org
SUMMARY:IM - mid distance
DESCRIPTION:
URL:https://huskymasters.org/event/20230309/
LOCATION:View Ridge Swim and Tennis Club\, 5815 NE 77th St\, Seattle\, 98115\, United States
END:VEVENT
BEGIN:VEVENT
DTSTART;TZID=America/Los_Angeles:20230307T202000
DTEND;TZID=America/Los_Angeles:20230307T212000
DTSTAMP:20260419T231033
CREATED:20230127T214632Z
LAST-MODIFIED:20230308T233432Z
UID:4523-1678220400-1678224000@huskymasters.org
SUMMARY:Long Axis - mid distance
DESCRIPTION:
URL:https://huskymasters.org/event/20230307/
LOCATION:View Ridge Swim and Tennis Club\, 5815 NE 77th St\, Seattle\, 98115\, United States
END:VEVENT
BEGIN:VEVENT
DTSTART;TZID=America/Los_Angeles:20230306T202000
DTEND;TZID=America/Los_Angeles:20230306T212000
DTSTAMP:20260419T231033
CREATED:20230127T214459Z
LAST-MODIFIED:20230127T214459Z
UID:4520-1678134000-1678137600@huskymasters.org
SUMMARY:Short Axis - mid distance
DESCRIPTION:
URL:https://huskymasters.org/event/20230306/
LOCATION:View Ridge Swim and Tennis Club\, 5815 NE 77th St\, Seattle\, 98115\, United States
END:VEVENT
BEGIN:VEVENT
DTSTART;TZID=America/Los_Angeles:20230302T202000
DTEND;TZID=America/Los_Angeles:20230302T212000
DTSTAMP:20260419T231033
CREATED:20230127T214338Z
LAST-MODIFIED:20230127T214338Z
UID:4517-1677788400-1677792000@huskymasters.org
SUMMARY:Distance Free
DESCRIPTION:
URL:https://huskymasters.org/event/20230302/
LOCATION:View Ridge Swim and Tennis Club\, 5815 NE 77th St\, Seattle\, 98115\, United States
END:VEVENT
BEGIN:VEVENT
DTSTART;TZID=America/Los_Angeles:20230228T202000
DTEND;TZID=America/Los_Angeles:20230228T212000
DTSTAMP:20260419T231033
CREATED:20230127T213933Z
LAST-MODIFIED:20230127T213933Z
UID:4514-1677615600-1677619200@huskymasters.org
SUMMARY:Mid Distance Free
DESCRIPTION:
URL:https://huskymasters.org/event/20230228/
LOCATION:View Ridge Swim and Tennis Club\, 5815 NE 77th St\, Seattle\, 98115\, United States
END:VEVENT
BEGIN:VEVENT
DTSTART;TZID=America/Los_Angeles:20230227T202000
DTEND;TZID=America/Los_Angeles:20230227T212000
DTSTAMP:20260419T231033
CREATED:20230127T213806Z
LAST-MODIFIED:20230127T213806Z
UID:4511-1677529200-1677532800@huskymasters.org
SUMMARY:Sprint Free
DESCRIPTION:
URL:https://huskymasters.org/event/20230227/
LOCATION:View Ridge Swim and Tennis Club\, 5815 NE 77th St\, Seattle\, 98115\, United States
END:VEVENT
BEGIN:VEVENT
DTSTART;TZID=America/Los_Angeles:20230223T202000
DTEND;TZID=America/Los_Angeles:20230223T212000
DTSTAMP:20260419T231033
CREATED:20230127T213640Z
LAST-MODIFIED:20230127T213640Z
UID:4507-1677183600-1677187200@huskymasters.org
SUMMARY:Long distance IM/FREE - Pacing and Stroke development
DESCRIPTION:
URL:https://huskymasters.org/event/20230223/
LOCATION:View Ridge Swim and Tennis Club\, 5815 NE 77th St\, Seattle\, 98115\, United States
END:VEVENT
BEGIN:VEVENT
DTSTART;TZID=America/Los_Angeles:20230221T202000
DTEND;TZID=America/Los_Angeles:20230221T212000
DTSTAMP:20260419T231033
CREATED:20230127T213448Z
LAST-MODIFIED:20230127T213448Z
UID:4504-1677010800-1677014400@huskymasters.org
SUMMARY:Short distance IM - Starts and turns
DESCRIPTION:
URL:https://huskymasters.org/event/20230221/
LOCATION:View Ridge Swim and Tennis Club\, 5815 NE 77th St\, Seattle\, 98115\, United States
END:VEVENT
BEGIN:VEVENT
DTSTART;TZID=America/Los_Angeles:20230220T202000
DTEND;TZID=America/Los_Angeles:20230220T212000
DTSTAMP:20260419T231033
CREATED:20230127T213322Z
LAST-MODIFIED:20230127T213322Z
UID:4501-1676924400-1676928000@huskymasters.org
SUMMARY:Mid distance IM - Turns and Pacing
DESCRIPTION:
URL:https://huskymasters.org/event/20230220/
LOCATION:View Ridge Swim and Tennis Club\, 5815 NE 77th St\, Seattle\, 98115\, United States
END:VEVENT
BEGIN:VEVENT
DTSTART;TZID=America/Los_Angeles:20230216T202000
DTEND;TZID=America/Los_Angeles:20230216T212000
DTSTAMP:20260419T231033
CREATED:20230127T210948Z
LAST-MODIFIED:20230217T013342Z
UID:4498-1676578800-1676582400@huskymasters.org
SUMMARY:Fly - Stroke development
DESCRIPTION:
URL:https://huskymasters.org/event/20230216/
LOCATION:View Ridge Swim and Tennis Club\, 5815 NE 77th St\, Seattle\, 98115\, United States
END:VEVENT
BEGIN:VEVENT
DTSTART;TZID=America/Los_Angeles:20230214T202000
DTEND;TZID=America/Los_Angeles:20230214T212000
DTSTAMP:20260419T231033
CREATED:20230127T210829Z
LAST-MODIFIED:20230221T013838Z
UID:4495-1676406000-1676409600@huskymasters.org
SUMMARY:Short axis - Turns and Pacing
DESCRIPTION:
URL:https://huskymasters.org/event/20230214/
LOCATION:View Ridge Swim and Tennis Club\, 5815 NE 77th St\, Seattle\, 98115\, United States
END:VEVENT
BEGIN:VEVENT
DTSTART;TZID=America/Los_Angeles:20230213T202000
DTEND;TZID=America/Los_Angeles:20230213T212000
DTSTAMP:20260419T231033
CREATED:20230127T210618Z
LAST-MODIFIED:20230127T210618Z
UID:4492-1676319600-1676323200@huskymasters.org
SUMMARY:Breaststroke - Stroke development
DESCRIPTION:
URL:https://huskymasters.org/event/20230213/
LOCATION:View Ridge Swim and Tennis Club\, 5815 NE 77th St\, Seattle\, 98115\, United States
END:VEVENT
BEGIN:VEVENT
DTSTART;TZID=America/Los_Angeles:20230209T202000
DTEND;TZID=America/Los_Angeles:20230209T212000
DTSTAMP:20260419T231033
CREATED:20230127T210429Z
LAST-MODIFIED:20230127T210429Z
UID:4489-1675974000-1675977600@huskymasters.org
SUMMARY:Long Axis - Balance and kick focus
DESCRIPTION:
URL:https://huskymasters.org/event/20230209/
LOCATION:View Ridge Swim and Tennis Club\, 5815 NE 77th St\, Seattle\, 98115\, United States
END:VEVENT
BEGIN:VEVENT
DTSTART;TZID=America/Los_Angeles:20230207T202000
DTEND;TZID=America/Los_Angeles:20230207T212000
DTSTAMP:20260419T231033
CREATED:20230127T210233Z
LAST-MODIFIED:20230208T040320Z
UID:4486-1675801200-1675804800@huskymasters.org
SUMMARY:Long Axis - Starts and Finish focus
DESCRIPTION:
URL:https://huskymasters.org/event/20230207/
LOCATION:View Ridge Swim and Tennis Club\, 5815 NE 77th St\, Seattle\, 98115\, United States
END:VEVENT
BEGIN:VEVENT
DTSTART;TZID=America/Los_Angeles:20230206T202000
DTEND;TZID=America/Los_Angeles:20230206T212000
DTSTAMP:20260419T231033
CREATED:20230127T210044Z
LAST-MODIFIED:20230127T210044Z
UID:4483-1675714800-1675718400@huskymasters.org
SUMMARY:Long Axis - Turns and Pacing
DESCRIPTION:
URL:https://huskymasters.org/event/20230206/
LOCATION:View Ridge Swim and Tennis Club\, 5815 NE 77th St\, Seattle\, 98115\, United States
END:VEVENT
BEGIN:VEVENT
DTSTART;TZID=America/Los_Angeles:20230202T202000
DTEND;TZID=America/Los_Angeles:20230202T212000
DTSTAMP:20260419T231033
CREATED:20230125T015212Z
LAST-MODIFIED:20230203T040649Z
UID:4437-1675369200-1675372800@huskymasters.org
SUMMARY:IM - Stroke development focus
DESCRIPTION:
URL:https://huskymasters.org/event/20230202/
LOCATION:View Ridge Swim and Tennis Club\, 5815 NE 77th St\, Seattle\, 98115\, United States
END:VEVENT
BEGIN:VEVENT
DTSTART;TZID=America/Los_Angeles:20230131T202000
DTEND;TZID=America/Los_Angeles:20230131T212000
DTSTAMP:20260419T231033
CREATED:20230125T014931Z
LAST-MODIFIED:20230125T014931Z
UID:4434-1675196400-1675200000@huskymasters.org
SUMMARY:Mid distance - Turns Focus
DESCRIPTION:
URL:https://huskymasters.org/event/20230131/
LOCATION:View Ridge Swim and Tennis Club\, 5815 NE 77th St\, Seattle\, 98115\, United States
END:VEVENT
BEGIN:VEVENT
DTSTART;TZID=America/Los_Angeles:20230130T202000
DTEND;TZID=America/Los_Angeles:20230130T212000
DTSTAMP:20260419T231033
CREATED:20230125T014802Z
LAST-MODIFIED:20230125T014802Z
UID:4431-1675110000-1675113600@huskymasters.org
SUMMARY:Distance Free
DESCRIPTION:
URL:https://huskymasters.org/event/20230130/
LOCATION:View Ridge Swim and Tennis Club\, 5815 NE 77th St\, Seattle\, 98115\, United States
END:VEVENT
BEGIN:VEVENT
DTSTART;TZID=America/Los_Angeles:20230126T202000
DTEND;TZID=America/Los_Angeles:20230126T212000
DTSTAMP:20260419T231033
CREATED:20230120T053230Z
LAST-MODIFIED:20230120T053230Z
UID:4420-1674764400-1674768000@huskymasters.org
SUMMARY:Mid Distance
DESCRIPTION:
URL:https://huskymasters.org/event/20230126/
LOCATION:View Ridge Swim and Tennis Club\, 5815 NE 77th St\, Seattle\, 98115\, United States
END:VEVENT
BEGIN:VEVENT
DTSTART;TZID=America/Los_Angeles:20230124T202000
DTEND;TZID=America/Los_Angeles:20230124T212000
DTSTAMP:20260419T231033
CREATED:20230120T053014Z
LAST-MODIFIED:20230120T053014Z
UID:4417-1674591600-1674595200@huskymasters.org
SUMMARY:Long Axis
DESCRIPTION:
URL:https://huskymasters.org/event/20230124/
LOCATION:View Ridge Swim and Tennis Club\, 5815 NE 77th St\, Seattle\, 98115\, United States
END:VEVENT
BEGIN:VEVENT
DTSTART;TZID=America/Los_Angeles:20230119T202000
DTEND;TZID=America/Los_Angeles:20230119T212000
DTSTAMP:20260419T231033
CREATED:20230109T000907Z
LAST-MODIFIED:20230109T000934Z
UID:4291-1674159600-1674163200@huskymasters.org
SUMMARY:Short Axis
DESCRIPTION:
URL:https://huskymasters.org/event/20230119/
LOCATION:View Ridge Swim and Tennis Club\, 5815 NE 77th St\, Seattle\, 98115\, United States
END:VEVENT
BEGIN:VEVENT
DTSTART;TZID=America/Los_Angeles:20230117T202000
DTEND;TZID=America/Los_Angeles:20230117T212000
DTSTAMP:20260419T231033
CREATED:20230109T000716Z
LAST-MODIFIED:20230109T000716Z
UID:4288-1673986800-1673990400@huskymasters.org
SUMMARY:Sprint Free
DESCRIPTION:
URL:https://huskymasters.org/event/20230117/
LOCATION:View Ridge Swim and Tennis Club\, 5815 NE 77th St\, Seattle\, 98115\, United States
END:VEVENT
BEGIN:VEVENT
DTSTART;TZID=America/Los_Angeles:20230112T202000
DTEND;TZID=America/Los_Angeles:20230112T212000
DTSTAMP:20260419T231033
CREATED:20230109T000526Z
LAST-MODIFIED:20230109T000526Z
UID:4285-1673554800-1673558400@huskymasters.org
SUMMARY:Distance Free
DESCRIPTION:
URL:https://huskymasters.org/event/20230112/
LOCATION:View Ridge Swim and Tennis Club\, 5815 NE 77th St\, Seattle\, 98115\, United States
END:VEVENT
BEGIN:VEVENT
DTSTART;TZID=America/Los_Angeles:20230110T202000
DTEND;TZID=America/Los_Angeles:20230110T212000
DTSTAMP:20260419T231033
CREATED:20230109T000400Z
LAST-MODIFIED:20230109T000400Z
UID:4282-1673382000-1673385600@huskymasters.org
SUMMARY:IM Day
DESCRIPTION:
URL:https://huskymasters.org/event/20230110/
LOCATION:View Ridge Swim and Tennis Club\, 5815 NE 77th St\, Seattle\, 98115\, United States
END:VEVENT
BEGIN:VEVENT
DTSTART;TZID=America/Los_Angeles:20230105T202000
DTEND;TZID=America/Los_Angeles:20230105T212000
DTSTAMP:20260419T231033
CREATED:20221231T005312Z
LAST-MODIFIED:20221231T005312Z
UID:4233-1672950000-1672953600@huskymasters.org
SUMMARY:Mid distance
DESCRIPTION:
URL:https://huskymasters.org/event/20230105/
LOCATION:View Ridge Swim and Tennis Club\, 5815 NE 77th St\, Seattle\, 98115\, United States
END:VEVENT
BEGIN:VEVENT
DTSTART;TZID=America/Los_Angeles:20230103T202000
DTEND;TZID=America/Los_Angeles:20230103T212000
DTSTAMP:20260419T231033
CREATED:20221231T004843Z
LAST-MODIFIED:20221231T004843Z
UID:4229-1672777200-1672780800@huskymasters.org
SUMMARY:Coach's choice
DESCRIPTION:
URL:https://huskymasters.org/event/20230103/
LOCATION:View Ridge Swim and Tennis Club\, 5815 NE 77th St\, Seattle\, 98115\, United States
END:VEVENT
BEGIN:VEVENT
DTSTART;TZID=America/Los_Angeles:20221222T202000
DTEND;TZID=America/Los_Angeles:20221222T212000
DTSTAMP:20260419T231033
CREATED:20221207T044255Z
LAST-MODIFIED:20221221T184124Z
UID:4175-1671740400-1671744000@huskymasters.org
SUMMARY:Final 2022 Practice (mid distance)
DESCRIPTION:We will return in January. Have a good holiday.
URL:https://huskymasters.org/event/20221222/
LOCATION:View Ridge Swim and Tennis Club\, 5815 NE 77th St\, Seattle\, 98115\, United States
END:VEVENT
BEGIN:VEVENT
DTSTART;TZID=America/Los_Angeles:20221220T202000
DTEND;TZID=America/Los_Angeles:20221220T212000
DTSTAMP:20260419T231033
CREATED:20221207T043724Z
LAST-MODIFIED:20221220T191900Z
UID:4172-1671567600-1671571200@huskymasters.org
SUMMARY:Long axis practice
DESCRIPTION:
URL:https://huskymasters.org/event/20221220/
LOCATION:View Ridge Swim and Tennis Club\, 5815 NE 77th St\, Seattle\, 98115\, United States
END:VEVENT
END:VCALENDAR