BEGIN:VCALENDAR
VERSION:2.0
PRODID:-//Husky Masters Swim Team - ECPv6.15.20//NONSGML v1.0//EN
CALSCALE:GREGORIAN
METHOD:PUBLISH
X-WR-CALNAME:Husky Masters Swim Team
X-ORIGINAL-URL:https://huskymasters.org
X-WR-CALDESC:Events for Husky Masters Swim Team
REFRESH-INTERVAL;VALUE=DURATION:PT1H
X-Robots-Tag:noindex
X-PUBLISHED-TTL:PT1H
BEGIN:VTIMEZONE
TZID:America/Los_Angeles
BEGIN:DAYLIGHT
TZOFFSETFROM:-0800
TZOFFSETTO:-0700
TZNAME:PDT
DTSTART:20210314T100000
END:DAYLIGHT
BEGIN:STANDARD
TZOFFSETFROM:-0700
TZOFFSETTO:-0800
TZNAME:PST
DTSTART:20211107T090000
END:STANDARD
BEGIN:DAYLIGHT
TZOFFSETFROM:-0800
TZOFFSETTO:-0700
TZNAME:PDT
DTSTART:20220313T100000
END:DAYLIGHT
BEGIN:STANDARD
TZOFFSETFROM:-0700
TZOFFSETTO:-0800
TZNAME:PST
DTSTART:20221106T090000
END:STANDARD
BEGIN:DAYLIGHT
TZOFFSETFROM:-0800
TZOFFSETTO:-0700
TZNAME:PDT
DTSTART:20230312T100000
END:DAYLIGHT
BEGIN:STANDARD
TZOFFSETFROM:-0700
TZOFFSETTO:-0800
TZNAME:PST
DTSTART:20231105T090000
END:STANDARD
END:VTIMEZONE
BEGIN:VEVENT
DTSTART;TZID=America/Los_Angeles:20220414T202000
DTEND;TZID=America/Los_Angeles:20220414T212000
DTSTAMP:20260423T120032
CREATED:20220404T003515Z
LAST-MODIFIED:20220404T003515Z
UID:2981-1649967600-1649971200@huskymasters.org
SUMMARY:Mid-distance Practice
DESCRIPTION:
URL:https://huskymasters.org/event/20220414/
LOCATION:View Ridge Swim and Tennis Club\, 5815 NE 77th St\, Seattle\, 98115\, United States
END:VEVENT
BEGIN:VEVENT
DTSTART;TZID=America/Los_Angeles:20220412T202000
DTEND;TZID=America/Los_Angeles:20220412T212000
DTSTAMP:20260423T120032
CREATED:20220404T003256Z
LAST-MODIFIED:20220404T003256Z
UID:2978-1649794800-1649798400@huskymasters.org
SUMMARY:IM Practice
DESCRIPTION:
URL:https://huskymasters.org/event/20220412/
LOCATION:View Ridge Swim and Tennis Club\, 5815 NE 77th St\, Seattle\, 98115\, United States
END:VEVENT
BEGIN:VEVENT
DTSTART;TZID=America/Los_Angeles:20220407T202000
DTEND;TZID=America/Los_Angeles:20220407T212000
DTSTAMP:20260423T120032
CREATED:20220404T003006Z
LAST-MODIFIED:20220404T003027Z
UID:2975-1649362800-1649366400@huskymasters.org
SUMMARY:Coach's Choice
DESCRIPTION:
URL:https://huskymasters.org/event/20220407/
LOCATION:View Ridge Swim and Tennis Club\, 5815 NE 77th St\, Seattle\, 98115\, United States
END:VEVENT
BEGIN:VEVENT
DTSTART;TZID=America/Los_Angeles:20220405T202000
DTEND;TZID=America/Los_Angeles:20220405T212000
DTSTAMP:20260423T120032
CREATED:20220403T033855Z
LAST-MODIFIED:20220403T033855Z
UID:2972-1649190000-1649193600@huskymasters.org
SUMMARY:Distance practice
DESCRIPTION:
URL:https://huskymasters.org/event/20220405/
LOCATION:View Ridge Swim and Tennis Club\, 5815 NE 77th St\, Seattle\, 98115\, United States
END:VEVENT
BEGIN:VEVENT
DTSTART;TZID=America/Los_Angeles:20220331T202000
DTEND;TZID=America/Los_Angeles:20220331T212000
DTSTAMP:20260423T120032
CREATED:20220224T015154Z
LAST-MODIFIED:20220224T040408Z
UID:2616-1648758000-1648761600@huskymasters.org
SUMMARY:Open Water Skills Practice
DESCRIPTION:
URL:https://huskymasters.org/event/20220331/
LOCATION:View Ridge Swim and Tennis Club\, 5815 NE 77th St\, Seattle\, 98115\, United States
END:VEVENT
BEGIN:VEVENT
DTSTART;TZID=America/Los_Angeles:20220329T202000
DTEND;TZID=America/Los_Angeles:20220329T212000
DTSTAMP:20260423T120032
CREATED:20220224T014401Z
LAST-MODIFIED:20220224T014401Z
UID:2607-1648585200-1648588800@huskymasters.org
SUMMARY:Coach's Choice Practice
DESCRIPTION:
URL:https://huskymasters.org/event/20220329/
LOCATION:View Ridge Swim and Tennis Club\, 5815 NE 77th St\, Seattle\, 98115\, United States
END:VEVENT
BEGIN:VEVENT
DTSTART;TZID=America/Los_Angeles:20220324T202000
DTEND;TZID=America/Los_Angeles:20220324T212000
DTSTAMP:20260423T120032
CREATED:20220224T014844Z
LAST-MODIFIED:20220302T214844Z
UID:2613-1648153200-1648156800@huskymasters.org
SUMMARY:Breaststroke & Free Practice
DESCRIPTION:
URL:https://huskymasters.org/event/20220324/
LOCATION:View Ridge Swim and Tennis Club\, 5815 NE 77th St\, Seattle\, 98115\, United States
END:VEVENT
BEGIN:VEVENT
DTSTART;TZID=America/Los_Angeles:20220322T202000
DTEND;TZID=America/Los_Angeles:20220322T212000
DTSTAMP:20260423T120032
CREATED:20220224T014642Z
LAST-MODIFIED:20220224T014642Z
UID:2610-1647980400-1647984000@huskymasters.org
SUMMARY:Backstroke & Free Practice
DESCRIPTION:
URL:https://huskymasters.org/event/20220322/
LOCATION:View Ridge Swim and Tennis Club\, 5815 NE 77th St\, Seattle\, 98115\, United States
END:VEVENT
BEGIN:VEVENT
DTSTART;TZID=America/Los_Angeles:20220317T202000
DTEND;TZID=America/Los_Angeles:20220317T212000
DTSTAMP:20260423T120032
CREATED:20220224T014219Z
LAST-MODIFIED:20220224T014219Z
UID:2604-1647548400-1647552000@huskymasters.org
SUMMARY:Sprints Practice
DESCRIPTION:
URL:https://huskymasters.org/event/20220317/
LOCATION:View Ridge Swim and Tennis Club\, 5815 NE 77th St\, Seattle\, 98115\, United States
END:VEVENT
BEGIN:VEVENT
DTSTART;TZID=America/Los_Angeles:20220315T202000
DTEND;TZID=America/Los_Angeles:20220315T212000
DTSTAMP:20260423T120032
CREATED:20220224T014035Z
LAST-MODIFIED:20220224T014035Z
UID:2601-1647375600-1647379200@huskymasters.org
SUMMARY:Butterfly and Free Practice
DESCRIPTION:
URL:https://huskymasters.org/event/20220315/
LOCATION:View Ridge Swim and Tennis Club\, 5815 NE 77th St\, Seattle\, 98115\, United States
END:VEVENT
BEGIN:VEVENT
DTSTART;TZID=America/Los_Angeles:20220310T202000
DTEND;TZID=America/Los_Angeles:20220310T212000
DTSTAMP:20260423T120032
CREATED:20220224T013816Z
LAST-MODIFIED:20220224T013816Z
UID:2598-1646943600-1646947200@huskymasters.org
SUMMARY:Coach's Choice Practice
DESCRIPTION:
URL:https://huskymasters.org/event/20220310/
LOCATION:View Ridge Swim and Tennis Club\, 5815 NE 77th St\, Seattle\, 98115\, United States
END:VEVENT
BEGIN:VEVENT
DTSTART;TZID=America/Los_Angeles:20220308T202000
DTEND;TZID=America/Los_Angeles:20220308T212000
DTSTAMP:20260423T120032
CREATED:20220224T013609Z
LAST-MODIFIED:20220224T013609Z
UID:2595-1646770800-1646774400@huskymasters.org
SUMMARY:Endurance Practice
DESCRIPTION:
URL:https://huskymasters.org/event/20220308/
LOCATION:View Ridge Swim and Tennis Club\, 5815 NE 77th St\, Seattle\, 98115\, United States
END:VEVENT
BEGIN:VEVENT
DTSTART;TZID=America/Los_Angeles:20220303T202000
DTEND;TZID=America/Los_Angeles:20220303T212000
DTSTAMP:20260423T120032
CREATED:20220224T013307Z
LAST-MODIFIED:20220302T214802Z
UID:2592-1646338800-1646342400@huskymasters.org
SUMMARY:IM Practice
DESCRIPTION:
URL:https://huskymasters.org/event/20220303/
LOCATION:View Ridge Swim and Tennis Club\, 5815 NE 77th St\, Seattle\, 98115\, United States
END:VEVENT
BEGIN:VEVENT
DTSTART;TZID=America/Los_Angeles:20220301T202000
DTEND;TZID=America/Los_Angeles:20220301T212000
DTSTAMP:20260423T120032
CREATED:20220224T013027Z
LAST-MODIFIED:20220302T214726Z
UID:2589-1646166000-1646169600@huskymasters.org
SUMMARY:Mid-distance Practice
DESCRIPTION:
URL:https://huskymasters.org/event/20220301/
LOCATION:View Ridge Swim and Tennis Club\, 5815 NE 77th St\, Seattle\, 98115\, United States
END:VEVENT
BEGIN:VEVENT
DTSTART;TZID=America/Los_Angeles:20220224T202000
DTEND;TZID=America/Los_Angeles:20220224T212000
DTSTAMP:20260423T120032
CREATED:20220129T231617Z
LAST-MODIFIED:20220225T060321Z
UID:2351-1645734000-1645737600@huskymasters.org
SUMMARY:Short Sprints Practice
DESCRIPTION:
URL:https://huskymasters.org/event/20220224/
LOCATION:View Ridge Swim and Tennis Club\, 5815 NE 77th St\, Seattle\, 98115\, United States
END:VEVENT
BEGIN:VEVENT
DTSTART;TZID=America/Los_Angeles:20220222T202000
DTEND;TZID=America/Los_Angeles:20220222T212000
DTSTAMP:20260423T120032
CREATED:20220129T231356Z
LAST-MODIFIED:20220129T231356Z
UID:2348-1645561200-1645564800@huskymasters.org
SUMMARY:Long Axis Practice
DESCRIPTION:Freestyle and Backstroke
URL:https://huskymasters.org/event/20220222/
LOCATION:View Ridge Swim and Tennis Club\, 5815 NE 77th St\, Seattle\, 98115\, United States
END:VEVENT
BEGIN:VEVENT
DTSTART;TZID=America/Los_Angeles:20220217T202000
DTEND;TZID=America/Los_Angeles:20220217T212000
DTSTAMP:20260423T120032
CREATED:20220129T231145Z
LAST-MODIFIED:20220129T231202Z
UID:2344-1645129200-1645132800@huskymasters.org
SUMMARY:Coach's Choice
DESCRIPTION:
URL:https://huskymasters.org/event/20220217/
LOCATION:View Ridge Swim and Tennis Club\, 5815 NE 77th St\, Seattle\, 98115\, United States
END:VEVENT
BEGIN:VEVENT
DTSTART;TZID=America/Los_Angeles:20220215T202000
DTEND;TZID=America/Los_Angeles:20220215T212000
DTSTAMP:20260423T120032
CREATED:20220129T230956Z
LAST-MODIFIED:20220129T231652Z
UID:2341-1644956400-1644960000@huskymasters.org
SUMMARY:Mid Distance Practice
DESCRIPTION:
URL:https://huskymasters.org/event/20220215/
LOCATION:View Ridge Swim and Tennis Club\, 5815 NE 77th St\, Seattle\, 98115\, United States
END:VEVENT
BEGIN:VEVENT
DTSTART;TZID=America/Los_Angeles:20220210T202000
DTEND;TZID=America/Los_Angeles:20220210T212000
DTSTAMP:20260423T120032
CREATED:20220129T230652Z
LAST-MODIFIED:20220129T230652Z
UID:2338-1644524400-1644528000@huskymasters.org
SUMMARY:Short Axis Practice
DESCRIPTION:Breaststroke and Butterfly
URL:https://huskymasters.org/event/20220210/
LOCATION:View Ridge Swim and Tennis Club\, 5815 NE 77th St\, Seattle\, 98115\, United States
END:VEVENT
BEGIN:VEVENT
DTSTART;TZID=America/Los_Angeles:20220208T202000
DTEND;TZID=America/Los_Angeles:20220208T212000
DTSTAMP:20260423T120032
CREATED:20220129T225914Z
LAST-MODIFIED:20220129T231644Z
UID:2335-1644351600-1644355200@huskymasters.org
SUMMARY:Coach's Choice
DESCRIPTION:
URL:https://huskymasters.org/event/20220208/
LOCATION:View Ridge Swim and Tennis Club\, 5815 NE 77th St\, Seattle\, 98115\, United States
END:VEVENT
BEGIN:VEVENT
DTSTART;TZID=America/Los_Angeles:20220203T202000
DTEND;TZID=America/Los_Angeles:20220203T212000
DTSTAMP:20260423T120032
CREATED:20220129T225737Z
LAST-MODIFIED:20220129T225737Z
UID:2332-1643919600-1643923200@huskymasters.org
SUMMARY:Distance Practice
DESCRIPTION:
URL:https://huskymasters.org/event/20220203/
LOCATION:View Ridge Swim and Tennis Club\, 5815 NE 77th St\, Seattle\, 98115\, United States
END:VEVENT
BEGIN:VEVENT
DTSTART;TZID=America/Los_Angeles:20220201T202000
DTEND;TZID=America/Los_Angeles:20220201T212000
DTSTAMP:20260423T120032
CREATED:20220129T202957Z
LAST-MODIFIED:20220129T224504Z
UID:2327-1643746800-1643750400@huskymasters.org
SUMMARY:IM Practice
DESCRIPTION:
URL:https://huskymasters.org/event/20220201/
LOCATION:View Ridge Swim and Tennis Club\, 5815 NE 77th St\, Seattle\, 98115\, United States
END:VEVENT
BEGIN:VEVENT
DTSTART;TZID=America/Los_Angeles:20220127T202000
DTEND;TZID=America/Los_Angeles:20220127T212000
DTSTAMP:20260423T120032
CREATED:20220102T201028Z
LAST-MODIFIED:20220102T201028Z
UID:1989-1643314800-1643318400@huskymasters.org
SUMMARY:Mid Distance Practice
DESCRIPTION:
URL:https://huskymasters.org/event/20220127/
LOCATION:View Ridge Swim and Tennis Club\, 5815 NE 77th St\, Seattle\, 98115\, United States
END:VEVENT
BEGIN:VEVENT
DTSTART;TZID=America/Los_Angeles:20220125T202000
DTEND;TZID=America/Los_Angeles:20220125T212000
DTSTAMP:20260423T120032
CREATED:20220102T200854Z
LAST-MODIFIED:20220102T200854Z
UID:1986-1643142000-1643145600@huskymasters.org
SUMMARY:Back & Free Practice
DESCRIPTION:
URL:https://huskymasters.org/event/20220125/
LOCATION:View Ridge Swim and Tennis Club\, 5815 NE 77th St\, Seattle\, 98115\, United States
END:VEVENT
BEGIN:VEVENT
DTSTART;TZID=America/Los_Angeles:20220120T202000
DTEND;TZID=America/Los_Angeles:20220120T212000
DTSTAMP:20260423T120032
CREATED:20220102T200626Z
LAST-MODIFIED:20220102T200626Z
UID:1983-1642710000-1642713600@huskymasters.org
SUMMARY:Coach's Choice Practice
DESCRIPTION:
URL:https://huskymasters.org/event/20220120/
LOCATION:View Ridge Swim and Tennis Club\, 5815 NE 77th St\, Seattle\, 98115\, United States
END:VEVENT
BEGIN:VEVENT
DTSTART;TZID=America/Los_Angeles:20220118T202000
DTEND;TZID=America/Los_Angeles:20220118T212000
DTSTAMP:20260423T120032
CREATED:20220102T200413Z
LAST-MODIFIED:20220102T200413Z
UID:1980-1642537200-1642540800@huskymasters.org
SUMMARY:Short Sprints Practice
DESCRIPTION:
URL:https://huskymasters.org/event/20220118/
LOCATION:View Ridge Swim and Tennis Club\, 5815 NE 77th St\, Seattle\, 98115\, United States
END:VEVENT
BEGIN:VEVENT
DTSTART;TZID=America/Los_Angeles:20220113T202000
DTEND;TZID=America/Los_Angeles:20220113T212000
DTSTAMP:20260423T120032
CREATED:20220102T200210Z
LAST-MODIFIED:20220102T200210Z
UID:1977-1642105200-1642108800@huskymasters.org
SUMMARY:Breast & Free Practice
DESCRIPTION:
URL:https://huskymasters.org/event/20220113/
LOCATION:View Ridge Swim and Tennis Club\, 5815 NE 77th St\, Seattle\, 98115\, United States
END:VEVENT
BEGIN:VEVENT
DTSTART;TZID=America/Los_Angeles:20220111T202000
DTEND;TZID=America/Los_Angeles:20220111T212000
DTSTAMP:20260423T120032
CREATED:20220102T200006Z
LAST-MODIFIED:20220102T200006Z
UID:1974-1641932400-1641936000@huskymasters.org
SUMMARY:Distance Practice
DESCRIPTION:
URL:https://huskymasters.org/event/20220111/
LOCATION:View Ridge Swim and Tennis Club\, 5815 NE 77th St\, Seattle\, 98115\, United States
END:VEVENT
BEGIN:VEVENT
DTSTART;TZID=America/Los_Angeles:20220106T202000
DTEND;TZID=America/Los_Angeles:20220106T212000
DTSTAMP:20260423T120032
CREATED:20220102T195727Z
LAST-MODIFIED:20220102T195727Z
UID:1971-1641500400-1641504000@huskymasters.org
SUMMARY:Coach's Choice Practice
DESCRIPTION:
URL:https://huskymasters.org/event/20220106/
LOCATION:View Ridge Swim and Tennis Club\, 5815 NE 77th St\, Seattle\, 98115\, United States
END:VEVENT
BEGIN:VEVENT
DTSTART;TZID=America/Los_Angeles:20220104T202000
DTEND;TZID=America/Los_Angeles:20220104T212000
DTSTAMP:20260423T120032
CREATED:20220102T195433Z
LAST-MODIFIED:20220104T215115Z
UID:1968-1641327600-1641331200@huskymasters.org
SUMMARY:Mid Distance Practice
DESCRIPTION:
URL:https://huskymasters.org/event/20220104/
LOCATION:View Ridge Swim and Tennis Club\, 5815 NE 77th St\, Seattle\, 98115\, United States
END:VEVENT
END:VCALENDAR